BEGIN:VCALENDAR
VERSION:2.0
PRODID:-//Seelsorgeeinheit Ulm Mitte/Ost - ECPv6.15.11//NONSGML v1.0//EN
CALSCALE:GREGORIAN
METHOD:PUBLISH
X-ORIGINAL-URL:https://katholische-kirche-ulm-mitte-ost.de
X-WR-CALDESC:Veranstaltungen für Seelsorgeeinheit Ulm Mitte/Ost
REFRESH-INTERVAL;VALUE=DURATION:PT1H
X-Robots-Tag:noindex
X-PUBLISHED-TTL:PT1H
BEGIN:VTIMEZONE
TZID:Europe/Berlin
BEGIN:DAYLIGHT
TZOFFSETFROM:+0100
TZOFFSETTO:+0200
TZNAME:CEST
DTSTART:20250330T010000
END:DAYLIGHT
BEGIN:STANDARD
TZOFFSETFROM:+0200
TZOFFSETTO:+0100
TZNAME:CET
DTSTART:20251026T010000
END:STANDARD
BEGIN:DAYLIGHT
TZOFFSETFROM:+0100
TZOFFSETTO:+0200
TZNAME:CEST
DTSTART:20260329T010000
END:DAYLIGHT
BEGIN:STANDARD
TZOFFSETFROM:+0200
TZOFFSETTO:+0100
TZNAME:CET
DTSTART:20261025T010000
END:STANDARD
BEGIN:DAYLIGHT
TZOFFSETFROM:+0100
TZOFFSETTO:+0200
TZNAME:CEST
DTSTART:20270328T010000
END:DAYLIGHT
BEGIN:STANDARD
TZOFFSETFROM:+0200
TZOFFSETTO:+0100
TZNAME:CET
DTSTART:20271031T010000
END:STANDARD
END:VTIMEZONE
BEGIN:VEVENT
DTSTART;TZID=Europe/Berlin:20260424T143000
DTEND;TZID=Europe/Berlin:20260424T153000
DTSTAMP:20260422T160617
CREATED:20260320T081928Z
LAST-MODIFIED:20260320T081928Z
UID:10001381-1777041000-1777044600@katholische-kirche-ulm-mitte-ost.de
SUMMARY:Eucharistiefeier\, anschl. Beichtgelegenheit (Georgskirche)
DESCRIPTION:
URL:https://katholische-kirche-ulm-mitte-ost.de/veranstaltung/eucharistiefeier-anschl-beichtgelegenheit-georgskirche-44/
LOCATION:Georgskirche
CATEGORIES:Gottesdienst
END:VEVENT
BEGIN:VEVENT
DTSTART;TZID=Europe/Berlin:20260426T103000
DTEND;TZID=Europe/Berlin:20260426T113000
DTSTAMP:20260422T160617
CREATED:20260320T081943Z
LAST-MODIFIED:20260320T081943Z
UID:10001385-1777199400-1777203000@katholische-kirche-ulm-mitte-ost.de
SUMMARY:Eucharistiefeier\, Patrozinium (Georgskirche)
DESCRIPTION:im Anschluss\, Weißwurstfrühstück im Gemeindehaus
URL:https://katholische-kirche-ulm-mitte-ost.de/veranstaltung/eucharistiefeier-patrozinium-georgskirche-2/
LOCATION:Georgskirche
CATEGORIES:Gottesdienst
END:VEVENT
END:VCALENDAR